BEGIN:VCALENDAR
VERSION:2.0
PRODID:-//Wijster - ECPv6.15.20//NONSGML v1.0//EN
CALSCALE:GREGORIAN
METHOD:PUBLISH
X-WR-CALNAME:Wijster
X-ORIGINAL-URL:https://wijster.bergsma.media
X-WR-CALDESC:Evenementen voor Wijster
REFRESH-INTERVAL;VALUE=DURATION:PT1H
X-Robots-Tag:noindex
X-PUBLISHED-TTL:PT1H
BEGIN:VTIMEZONE
TZID:Europe/Amsterdam
BEGIN:DAYLIGHT
TZOFFSETFROM:+0100
TZOFFSETTO:+0200
TZNAME:CEST
DTSTART:20230326T010000
END:DAYLIGHT
BEGIN:STANDARD
TZOFFSETFROM:+0200
TZOFFSETTO:+0100
TZNAME:CET
DTSTART:20231029T010000
END:STANDARD
BEGIN:DAYLIGHT
TZOFFSETFROM:+0100
TZOFFSETTO:+0200
TZNAME:CEST
DTSTART:20240331T010000
END:DAYLIGHT
BEGIN:STANDARD
TZOFFSETFROM:+0200
TZOFFSETTO:+0100
TZNAME:CET
DTSTART:20241027T010000
END:STANDARD
BEGIN:DAYLIGHT
TZOFFSETFROM:+0100
TZOFFSETTO:+0200
TZNAME:CEST
DTSTART:20250330T010000
END:DAYLIGHT
BEGIN:STANDARD
TZOFFSETFROM:+0200
TZOFFSETTO:+0100
TZNAME:CET
DTSTART:20251026T010000
END:STANDARD
END:VTIMEZONE
BEGIN:VEVENT
DTSTART;TZID=Europe/Amsterdam:20240301T193000
DTEND;TZID=Europe/Amsterdam:20240301T210000
DTSTAMP:20260421T151807
CREATED:20230924T072306Z
LAST-MODIFIED:20230924T072306Z
UID:1443-1709321400-1709326800@wijster.bergsma.media
SUMMARY:SVWW DMW3
DESCRIPTION:Thuiswedstrijd
URL:https://wijster.bergsma.media/evenement/svww-dmw3-4/
LOCATION:Sporthal Wijster\, Sportweg 10\, Wijster\, DR\, 9418PA\, Nederland
END:VEVENT
BEGIN:VEVENT
DTSTART;TZID=Europe/Amsterdam:20240309T090000
DTEND;TZID=Europe/Amsterdam:20240309T130000
DTSTAMP:20260421T151807
CREATED:20230924T075403Z
LAST-MODIFIED:20230924T075403Z
UID:1455-1709974800-1709989200@wijster.bergsma.media
SUMMARY:Oud papier
DESCRIPTION:Doe het oud papier in de oude afval container. Zit deze vol dan bij voorkeur in kleine afgesloten dozen en maak deze niet te zwaar. Wat als prettig ervaren wordt is het klaar zetten in de kruiwagen\, zodat er niet diep gebukt hoeft te worden. \nVoor meer informatie en contactpersoon: Afvalinzameling in het Dorp
URL:https://wijster.bergsma.media/evenement/oud-papier-7/
END:VEVENT
BEGIN:VEVENT
DTSTART;TZID=Europe/Amsterdam:20240315T180000
DTEND;TZID=Europe/Amsterdam:20240315T230000
DTSTAMP:20260421T151807
CREATED:20240207T054737Z
LAST-MODIFIED:20240207T054737Z
UID:1610-1710525600-1710543600@wijster.bergsma.media
SUMMARY:Playbackshow Kinderwerk
DESCRIPTION:
URL:https://wijster.bergsma.media/evenement/playbackshow-kinderwerk/
LOCATION:Sporthal Wijster\, Sportweg 10\, Wijster\, DR\, 9418PA\, Nederland
END:VEVENT
BEGIN:VEVENT
DTSTART;TZID=Europe/Amsterdam:20240316T130000
DTEND;TZID=Europe/Amsterdam:20240316T150000
DTSTAMP:20260421T151807
CREATED:20240301T131459Z
LAST-MODIFIED:20240301T131459Z
UID:1615-1710594000-1710601200@wijster.bergsma.media
SUMMARY:Potgrondactie VV Wijster
DESCRIPTION:
URL:https://wijster.bergsma.media/evenement/potgrondactie-vv-wijster/
END:VEVENT
BEGIN:VEVENT
DTSTART;TZID=Europe/Amsterdam:20240316T190000
DTEND;TZID=Europe/Amsterdam:20240316T210000
DTSTAMP:20260421T151807
CREATED:20230911T173136Z
LAST-MODIFIED:20230911T173136Z
UID:1415-1710615600-1710622800@wijster.bergsma.media
SUMMARY:SVWW Handbal
DESCRIPTION:SVWW DS2-Circeltijgers\n19.00 uur\n\n\nSVWW DS1-VenS\n\n20.15 uur
URL:https://wijster.bergsma.media/evenement/svww-handbal-12/
LOCATION:Sporthal De Börkerkoel\, Oude Beilerweg 27\, Westerbork\, DR\, 9431BZ\, Nederland
END:VEVENT
BEGIN:VEVENT
DTSTART;TZID=Europe/Amsterdam:20240316T200000
DTEND;TZID=Europe/Amsterdam:20240316T233000
DTSTAMP:20260421T151807
CREATED:20240207T054823Z
LAST-MODIFIED:20240207T054823Z
UID:1612-1710619200-1710631800@wijster.bergsma.media
SUMMARY:Playbackshow VvV
DESCRIPTION:
URL:https://wijster.bergsma.media/evenement/playbackshow-vvv/
LOCATION:Sporthal Wijster\, Sportweg 10\, Wijster\, DR\, 9418PA\, Nederland
ORGANIZER;CN="VvV Wijster":MAILTO:info@vvvwijster.nl
END:VEVENT
BEGIN:VEVENT
DTSTART;TZID=Europe/Amsterdam:20240320T170000
DTEND;TZID=Europe/Amsterdam:20240320T200000
DTSTAMP:20260421T151807
CREATED:20230929T095324Z
LAST-MODIFIED:20230929T095324Z
UID:1488-1710954000-1710964800@wijster.bergsma.media
SUMMARY:Seniorenrestaurant
DESCRIPTION:De kosten voor deelname aan het seniorenrestaurant zijn € 12\,50. Dit betreft de maaltijd plus 1 drankje.\n\nOpgave bij Jan Bouwmeester: 06-27017501 (liefst via WhatsApp).\n\nIn principe is het seniorenrestaurant iedere derde woensdag van de maand\, met uitzondering van december.\n\nDe overige data voor dit seizoen\n\n17-04-2024\n15-05-2024
URL:https://wijster.bergsma.media/evenement/seniorenrestaurant-7/
END:VEVENT
BEGIN:VEVENT
DTSTART;TZID=Europe/Amsterdam:20240322T194500
DTEND;TZID=Europe/Amsterdam:20240322T220000
DTSTAMP:20260421T151807
CREATED:20240108T142504Z
LAST-MODIFIED:20240108T142504Z
UID:1596-1711136700-1711144800@wijster.bergsma.media
SUMMARY:Buurtacademie: paasworkshop
DESCRIPTION:
URL:https://wijster.bergsma.media/evenement/buurtacademie-paasworkshop/
END:VEVENT
BEGIN:VEVENT
DTSTART;TZID=Europe/Amsterdam:20240326T193000
DTEND;TZID=Europe/Amsterdam:20240326T193000
DTSTAMP:20260421T151807
CREATED:20240301T131851Z
LAST-MODIFIED:20240301T131851Z
UID:1619-1711481400-1711481400@wijster.bergsma.media
SUMMARY:Klaverjassen Eijg&Wijs
DESCRIPTION:Elke laatste dinsdag v/d maand 19:30 uur inleg €4\,-\n26/3 – 30/4 – 28/5 – 25-6 – (zomerstop) 24/9 – 29/10 – 26/11\noudejaarskaarten eenmalig vrijdag 27/12
URL:https://wijster.bergsma.media/evenement/klaverjassen-eijgwijs/
ORGANIZER;CN="Herberg Eijg&Wijs":MAILTO:herbergeijgenwijs@gmail.com
END:VEVENT
END:VCALENDAR