BEGIN:VCALENDAR
VERSION:2.0
PRODID:-//Wijster - ECPv6.15.20//NONSGML v1.0//EN
CALSCALE:GREGORIAN
METHOD:PUBLISH
X-WR-CALNAME:Wijster
X-ORIGINAL-URL:https://wijster.bergsma.media
X-WR-CALDESC:Evenementen voor Wijster
REFRESH-INTERVAL;VALUE=DURATION:PT1H
X-Robots-Tag:noindex
X-PUBLISHED-TTL:PT1H
BEGIN:VTIMEZONE
TZID:Europe/Amsterdam
BEGIN:DAYLIGHT
TZOFFSETFROM:+0100
TZOFFSETTO:+0200
TZNAME:CEST
DTSTART:20230326T010000
END:DAYLIGHT
BEGIN:STANDARD
TZOFFSETFROM:+0200
TZOFFSETTO:+0100
TZNAME:CET
DTSTART:20231029T010000
END:STANDARD
BEGIN:DAYLIGHT
TZOFFSETFROM:+0100
TZOFFSETTO:+0200
TZNAME:CEST
DTSTART:20240331T010000
END:DAYLIGHT
BEGIN:STANDARD
TZOFFSETFROM:+0200
TZOFFSETTO:+0100
TZNAME:CET
DTSTART:20241027T010000
END:STANDARD
BEGIN:DAYLIGHT
TZOFFSETFROM:+0100
TZOFFSETTO:+0200
TZNAME:CEST
DTSTART:20250330T010000
END:DAYLIGHT
BEGIN:STANDARD
TZOFFSETFROM:+0200
TZOFFSETTO:+0100
TZNAME:CET
DTSTART:20251026T010000
END:STANDARD
END:VTIMEZONE
BEGIN:VEVENT
DTSTART;TZID=Europe/Amsterdam:20240210T000000
DTEND;TZID=Europe/Amsterdam:20240210T000000
DTSTAMP:20260421T170558
CREATED:20240119T141958Z
LAST-MODIFIED:20240119T141958Z
UID:1602-1707523200-1707523200@wijster.bergsma.media
SUMMARY:Familie zaalvoetbaltoernooi
DESCRIPTION:Wil je met je familie de strijd voetballend aan gaan tegen de andere families geef je dan snel op bij Ronnie Geuzinge.
URL:https://wijster.bergsma.media/evenement/familie-zaalvoetbaltoernooi/
LOCATION:Sporthal Wijster\, Sportweg 10\, Wijster\, DR\, 9418PA\, Nederland
ORGANIZER;CN="SSW":MAILTO:info@sportparkwijster.nl
END:VEVENT
BEGIN:VEVENT
DTSTART;TZID=Europe/Amsterdam:20240210T090000
DTEND;TZID=Europe/Amsterdam:20240210T130000
DTSTAMP:20260421T170558
CREATED:20230924T075336Z
LAST-MODIFIED:20230924T075336Z
UID:1453-1707555600-1707570000@wijster.bergsma.media
SUMMARY:Oud papier
DESCRIPTION:Doe het oud papier in de oude afval container. Zit deze vol dan bij voorkeur in kleine afgesloten dozen en maak deze niet te zwaar. Wat als prettig ervaren wordt is het klaar zetten in de kruiwagen\, zodat er niet diep gebukt hoeft te worden. \nVoor meer informatie en contactpersoon: Afvalinzameling in het Dorp
URL:https://wijster.bergsma.media/evenement/oud-papier-6/
END:VEVENT
BEGIN:VEVENT
DTSTART;TZID=Europe/Amsterdam:20240217T100000
DTEND;TZID=Europe/Amsterdam:20240217T150000
DTSTAMP:20260421T170558
CREATED:20240119T142235Z
LAST-MODIFIED:20240119T142235Z
UID:1605-1708164000-1708182000@wijster.bergsma.media
SUMMARY:Anneke Jonker Open Huis
DESCRIPTION:Zaterdag 17 februari van 11 tot 15 uur \nOp deze dag ben je van harte welkom in mijn atelier \nDwarsakkers 16 – 9418 PM Wijster
URL:https://wijster.bergsma.media/evenement/anneke-jonker-open-huis/
END:VEVENT
BEGIN:VEVENT
DTSTART;TZID=Europe/Amsterdam:20240221T170000
DTEND;TZID=Europe/Amsterdam:20240221T200000
DTSTAMP:20260421T170558
CREATED:20230929T095249Z
LAST-MODIFIED:20230929T095249Z
UID:1486-1708534800-1708545600@wijster.bergsma.media
SUMMARY:Seniorenrestaurant
DESCRIPTION:De kosten voor deelname aan het seniorenrestaurant zijn € 12\,50. Dit betreft de maaltijd plus 1 drankje.\n\nOpgave bij Jan Bouwmeester: 06-27017501 (liefst via WhatsApp).\n\nIn principe is het seniorenrestaurant iedere derde woensdag van de maand\, met uitzondering van december.\n\nDe overige data voor dit seizoen\n\n20-03-2024\n17-04-2024\n15-05-2024
URL:https://wijster.bergsma.media/evenement/seniorenrestaurant-6/
END:VEVENT
BEGIN:VEVENT
DTSTART;TZID=Europe/Amsterdam:20240224T190000
DTEND;TZID=Europe/Amsterdam:20240224T210000
DTSTAMP:20260421T170558
CREATED:20230911T173044Z
LAST-MODIFIED:20230911T173044Z
UID:1413-1708801200-1708808400@wijster.bergsma.media
SUMMARY:SVWW Handbal
DESCRIPTION:SVWW DS2-Blue Stars\n19.00 uur\n\n\nSVWW DS1-HVE2000\n20.15 uur
URL:https://wijster.bergsma.media/evenement/svww-handbal-11/
LOCATION:Sporthal Wijster\, Sportweg 10\, Wijster\, DR\, 9418PA\, Nederland
END:VEVENT
END:VCALENDAR