BEGIN:VCALENDAR
VERSION:2.0
PRODID:-//Wijster - ECPv6.15.20//NONSGML v1.0//EN
CALSCALE:GREGORIAN
METHOD:PUBLISH
X-WR-CALNAME:Wijster
X-ORIGINAL-URL:https://wijster.bergsma.media
X-WR-CALDESC:Evenementen voor Wijster
REFRESH-INTERVAL;VALUE=DURATION:PT1H
X-Robots-Tag:noindex
X-PUBLISHED-TTL:PT1H
BEGIN:VTIMEZONE
TZID:Europe/Amsterdam
BEGIN:DAYLIGHT
TZOFFSETFROM:+0100
TZOFFSETTO:+0200
TZNAME:CEST
DTSTART:20220327T010000
END:DAYLIGHT
BEGIN:STANDARD
TZOFFSETFROM:+0200
TZOFFSETTO:+0100
TZNAME:CET
DTSTART:20221030T010000
END:STANDARD
BEGIN:DAYLIGHT
TZOFFSETFROM:+0100
TZOFFSETTO:+0200
TZNAME:CEST
DTSTART:20230326T010000
END:DAYLIGHT
BEGIN:STANDARD
TZOFFSETFROM:+0200
TZOFFSETTO:+0100
TZNAME:CET
DTSTART:20231029T010000
END:STANDARD
BEGIN:DAYLIGHT
TZOFFSETFROM:+0100
TZOFFSETTO:+0200
TZNAME:CEST
DTSTART:20240331T010000
END:DAYLIGHT
BEGIN:STANDARD
TZOFFSETFROM:+0200
TZOFFSETTO:+0100
TZNAME:CET
DTSTART:20241027T010000
END:STANDARD
END:VTIMEZONE
BEGIN:VEVENT
DTSTART;TZID=Europe/Amsterdam:20230603T133000
DTEND;TZID=Europe/Amsterdam:20230603T160000
DTSTAMP:20260422T043548
CREATED:20230407T133829Z
LAST-MODIFIED:20230407T133829Z
UID:1319-1685799000-1685808000@wijster.bergsma.media
SUMMARY:Kinderwerk Wijster: actieve middag op Ter Horst
DESCRIPTION:Meer info volgt
URL:https://wijster.bergsma.media/evenement/kinderwerk-wijster-actieve-middag-op-ter-horst/
END:VEVENT
BEGIN:VEVENT
DTSTART;TZID=Europe/Amsterdam:20230617T130000
DTEND;TZID=Europe/Amsterdam:20230617T130000
DTSTAMP:20260422T043548
CREATED:20230512T144549Z
LAST-MODIFIED:20230512T144549Z
UID:1338-1687006800-1687006800@wijster.bergsma.media
SUMMARY:VV Wijster 90 jaar
DESCRIPTION:
URL:https://wijster.bergsma.media/evenement/vv-wijster-90-jaar/
END:VEVENT
BEGIN:VEVENT
DTSTART;TZID=Europe/Amsterdam:20230618T123000
DTEND;TZID=Europe/Amsterdam:20230618T123000
DTSTAMP:20260422T043548
CREATED:20230512T144642Z
LAST-MODIFIED:20230512T144642Z
UID:1341-1687091400-1687091400@wijster.bergsma.media
SUMMARY:VV Wijster 90 jaar
DESCRIPTION:
URL:https://wijster.bergsma.media/evenement/vv-wijster-90-jaar-2/
END:VEVENT
BEGIN:VEVENT
DTSTART;TZID=Europe/Amsterdam:20230621T170000
DTEND;TZID=Europe/Amsterdam:20230621T183000
DTSTAMP:20260422T043548
CREATED:20230218T092347Z
LAST-MODIFIED:20230218T092347Z
UID:1260-1687366800-1687372200@wijster.bergsma.media
SUMMARY:Seniorenrestaurant
DESCRIPTION:Om de ouderen in Wijster samen te brengen\, wil Dorpsbelangen Wijster in samenwerking met Ouderen Onder Dak u een diner aanbieden.\nAan het diner zijn geen kosten verbonden en is inclusief 2 consumpties. Het diner wordt u kosteloos aangeboden en u hoeft ook geen lid te zijn van de ouderensoos. \nWilt u 1 week voor de desbetreffende datum uw opgave doormailen naar dorpsbelangenwijster@outlook.com zodat we de kok kunnen laten weten voor hoeveel personen hij mag koken.\nEr is een maximum van 22 personen\, dus geef u tijdig op. Vol = vol.
URL:https://wijster.bergsma.media/evenement/diner-ouderen-onder-dak-4/
END:VEVENT
BEGIN:VEVENT
DTSTART;TZID=Europe/Amsterdam:20230624T110000
DTEND;TZID=Europe/Amsterdam:20230624T163000
DTSTAMP:20260422T043548
CREATED:20230603T131208Z
LAST-MODIFIED:20230603T131208Z
UID:1344-1687604400-1687624200@wijster.bergsma.media
SUMMARY:SGV Wijster Demo dag
DESCRIPTION:
URL:https://wijster.bergsma.media/evenement/sgv-wijster-demo-dag/
LOCATION:Sporthal Wijster\, Sportweg 10\, Wijster\, DR\, 9418PA\, Nederland
END:VEVENT
BEGIN:VEVENT
DTSTART;TZID=Europe/Amsterdam:20230630T200000
DTEND;TZID=Europe/Amsterdam:20230630T233000
DTSTAMP:20260422T043548
CREATED:20230512T144049Z
LAST-MODIFIED:20230512T144049Z
UID:1334-1688155200-1688167800@wijster.bergsma.media
SUMMARY:Wijsters Grote Verjaardagsspel
DESCRIPTION:Wijsters Grote Verjaardagsspel
URL:https://wijster.bergsma.media/evenement/wijsters-grote-verjaardagsspel/
END:VEVENT
END:VCALENDAR