BEGIN:VCALENDAR
VERSION:2.0
PRODID:-//Wijster - ECPv6.15.20//NONSGML v1.0//EN
CALSCALE:GREGORIAN
METHOD:PUBLISH
X-WR-CALNAME:Wijster
X-ORIGINAL-URL:https://wijster.bergsma.media
X-WR-CALDESC:Evenementen voor Wijster
REFRESH-INTERVAL;VALUE=DURATION:PT1H
X-Robots-Tag:noindex
X-PUBLISHED-TTL:PT1H
BEGIN:VTIMEZONE
TZID:Europe/Amsterdam
BEGIN:DAYLIGHT
TZOFFSETFROM:+0100
TZOFFSETTO:+0200
TZNAME:CEST
DTSTART:20220327T010000
END:DAYLIGHT
BEGIN:STANDARD
TZOFFSETFROM:+0200
TZOFFSETTO:+0100
TZNAME:CET
DTSTART:20221030T010000
END:STANDARD
BEGIN:DAYLIGHT
TZOFFSETFROM:+0100
TZOFFSETTO:+0200
TZNAME:CEST
DTSTART:20230326T010000
END:DAYLIGHT
BEGIN:STANDARD
TZOFFSETFROM:+0200
TZOFFSETTO:+0100
TZNAME:CET
DTSTART:20231029T010000
END:STANDARD
BEGIN:DAYLIGHT
TZOFFSETFROM:+0100
TZOFFSETTO:+0200
TZNAME:CEST
DTSTART:20240331T010000
END:DAYLIGHT
BEGIN:STANDARD
TZOFFSETFROM:+0200
TZOFFSETTO:+0100
TZNAME:CET
DTSTART:20241027T010000
END:STANDARD
END:VTIMEZONE
BEGIN:VEVENT
DTSTART;TZID=Europe/Amsterdam:20230512T180000
DTEND;TZID=Europe/Amsterdam:20230512T200000
DTSTAMP:20260422T061327
CREATED:20230404T145607Z
LAST-MODIFIED:20230404T145607Z
UID:1309-1683914400-1683921600@wijster.bergsma.media
SUMMARY:Koko: Droge worst actie
DESCRIPTION:
URL:https://wijster.bergsma.media/evenement/90-jarig-jubileum-v-v-wijster/
END:VEVENT
BEGIN:VEVENT
DTSTART;TZID=Europe/Amsterdam:20230512T190000
DTEND;TZID=Europe/Amsterdam:20230512T210000
DTSTAMP:20260422T061327
CREATED:20230507T155432Z
LAST-MODIFIED:20230507T155432Z
UID:1326-1683918000-1683925200@wijster.bergsma.media
SUMMARY:VvV Wijster Avondwandeling
DESCRIPTION:19:00 (10km) / 19:30 (5km) \nStart vanaf Herberg Eijg&Wijs
URL:https://wijster.bergsma.media/evenement/vvv-wijster-avondwandeling/
END:VEVENT
BEGIN:VEVENT
DTSTART;TZID=Europe/Amsterdam:20230517T170000
DTEND;TZID=Europe/Amsterdam:20230517T183000
DTSTAMP:20260422T061327
CREATED:20230218T092314Z
LAST-MODIFIED:20230218T092314Z
UID:1258-1684342800-1684348200@wijster.bergsma.media
SUMMARY:Seniorenrestaurant
DESCRIPTION:Om de ouderen in Wijster samen te brengen\, wil Dorpsbelangen Wijster in samenwerking met Ouderen Onder Dak u een diner aanbieden.\nAan het diner zijn geen kosten verbonden en is inclusief 2 consumpties. Het diner wordt u kosteloos aangeboden en u hoeft ook geen lid te zijn van de ouderensoos. \nWilt u 1 week voor de desbetreffende datum uw opgave doormailen naar dorpsbelangenwijster@outlook.com zodat we de kok kunnen laten weten voor hoeveel personen hij mag koken.\nEr is een maximum van 22 personen\, dus geef u tijdig op. Vol = vol.
URL:https://wijster.bergsma.media/evenement/diner-ouderen-onder-dak-3/
END:VEVENT
BEGIN:VEVENT
DTSTART;TZID=Europe/Amsterdam:20230518T080000
DTEND;TZID=Europe/Amsterdam:20230518T170000
DTSTAMP:20260422T061327
CREATED:20230404T145530Z
LAST-MODIFIED:20230404T145530Z
UID:1307-1684396800-1684429200@wijster.bergsma.media
SUMMARY:Pingel es in
DESCRIPTION:
URL:https://wijster.bergsma.media/evenement/pingel-es-in/
END:VEVENT
BEGIN:VEVENT
DTSTART;TZID=Europe/Amsterdam:20230521T140000
DTEND;TZID=Europe/Amsterdam:20230521T170000
DTSTAMP:20260422T061327
CREATED:20230404T145504Z
LAST-MODIFIED:20230404T145504Z
UID:1305-1684677600-1684688400@wijster.bergsma.media
SUMMARY:wijster 1 - buinerveen 1
DESCRIPTION:Aftrap 14:00 uur
URL:https://wijster.bergsma.media/evenement/wijster-1-buinerveen-1/
END:VEVENT
BEGIN:VEVENT
DTSTART;TZID=Europe/Amsterdam:20230523T200000
DTEND;TZID=Europe/Amsterdam:20230523T213000
DTSTAMP:20260422T061327
CREATED:20230407T132945Z
LAST-MODIFIED:20230407T132945Z
UID:1313-1684872000-1684877400@wijster.bergsma.media
SUMMARY:Jaarvergadering Dorpsbelangen
DESCRIPTION:
URL:https://wijster.bergsma.media/evenement/jaarvergadering-dorpsbelangen/
END:VEVENT
END:VCALENDAR