BEGIN:VCALENDAR
VERSION:2.0
PRODID:-//Wijster - ECPv6.15.20//NONSGML v1.0//EN
CALSCALE:GREGORIAN
METHOD:PUBLISH
X-WR-CALNAME:Wijster
X-ORIGINAL-URL:https://wijster.bergsma.media
X-WR-CALDESC:Evenementen voor Wijster
REFRESH-INTERVAL;VALUE=DURATION:PT1H
X-Robots-Tag:noindex
X-PUBLISHED-TTL:PT1H
BEGIN:VTIMEZONE
TZID:Europe/Amsterdam
BEGIN:DAYLIGHT
TZOFFSETFROM:+0100
TZOFFSETTO:+0200
TZNAME:CEST
DTSTART:20220327T010000
END:DAYLIGHT
BEGIN:STANDARD
TZOFFSETFROM:+0200
TZOFFSETTO:+0100
TZNAME:CET
DTSTART:20221030T010000
END:STANDARD
BEGIN:DAYLIGHT
TZOFFSETFROM:+0100
TZOFFSETTO:+0200
TZNAME:CEST
DTSTART:20230326T010000
END:DAYLIGHT
BEGIN:STANDARD
TZOFFSETFROM:+0200
TZOFFSETTO:+0100
TZNAME:CET
DTSTART:20231029T010000
END:STANDARD
BEGIN:DAYLIGHT
TZOFFSETFROM:+0100
TZOFFSETTO:+0200
TZNAME:CEST
DTSTART:20240331T010000
END:DAYLIGHT
BEGIN:STANDARD
TZOFFSETFROM:+0200
TZOFFSETTO:+0100
TZNAME:CET
DTSTART:20241027T010000
END:STANDARD
END:VTIMEZONE
BEGIN:VEVENT
DTSTART;TZID=Europe/Amsterdam:20230311T190000
DTEND;TZID=Europe/Amsterdam:20230311T223000
DTSTAMP:20260422T091724
CREATED:20220908T174045Z
LAST-MODIFIED:20220908T174045Z
UID:1126-1678561200-1678573800@wijster.bergsma.media
SUMMARY:SVWW Handbal
DESCRIPTION:19.00 SVWW DS2-HVZ-Vivendie\n20.20 SVWW DS!-Circeltijgers \nLocatie : Wijster
URL:https://wijster.bergsma.media/evenement/svww-handbal-5/
LOCATION:Sporthal Wijster\, Sportweg 10\, Wijster\, DR\, 9418PA\, Nederland
END:VEVENT
BEGIN:VEVENT
DTSTART;TZID=Europe/Amsterdam:20230313T190000
DTEND;TZID=Europe/Amsterdam:20230313T190000
DTSTAMP:20260422T091724
CREATED:20230114T091506Z
LAST-MODIFIED:20230114T091506Z
UID:1237-1678734000-1678734000@wijster.bergsma.media
SUMMARY:Jaarvergadering SGV
DESCRIPTION:
URL:https://wijster.bergsma.media/evenement/jaarvergadering-sgv/
END:VEVENT
BEGIN:VEVENT
DTSTART;TZID=Europe/Amsterdam:20230318T130000
DTEND;TZID=Europe/Amsterdam:20230318T160000
DTSTAMP:20260422T091724
CREATED:20230313T184950Z
LAST-MODIFIED:20230313T184950Z
UID:1280-1679144400-1679155200@wijster.bergsma.media
SUMMARY:Potgrond Actie IKC de Zuiderenk
DESCRIPTION:Potgrond (40 liter)\n\n\n1 zak\n€ 6\,00\n\n\n2 zakken\n€ 10\,00\n\n\n3 zakken\n€ 15\,00\n\n\nViolen\n\n\n\ntray\n€ 3\,00\n\n\n2 trays\n€ 5\,00
URL:https://wijster.bergsma.media/evenement/potgrond-actie-ikc-de-zuideren/
END:VEVENT
BEGIN:VEVENT
DTSTART;TZID=Europe/Amsterdam:20230321T000000
DTEND;TZID=Europe/Amsterdam:20230321T000000
DTSTAMP:20260422T091724
CREATED:20230114T091417Z
LAST-MODIFIED:20230114T091417Z
UID:1235-1679356800-1679356800@wijster.bergsma.media
SUMMARY:Seniorensoos
DESCRIPTION:
URL:https://wijster.bergsma.media/evenement/seniorensoos-3/
END:VEVENT
BEGIN:VEVENT
DTSTART;TZID=Europe/Amsterdam:20230321T200000
DTEND;TZID=Europe/Amsterdam:20230321T220000
DTSTAMP:20260422T091724
CREATED:20230313T185254Z
LAST-MODIFIED:20230313T185254Z
UID:1283-1679428800-1679436000@wijster.bergsma.media
SUMMARY:Jaarvergadering Vereniging voor Volksvermaken
DESCRIPTION:Agenda jaarvergadering:\n1. Opening\n2. Jaarverslag 2022\n3. Financieel jaarverslag 2022\n4. Verslag kascommissie\n5. Benoeming kascommissie\n6. Bestuursverkiezing\n7. Voorstel Programma 2023:\n– 2 april Palmpaasoptocht\n– mei Avondwandeling\n– juni …..\n– oktober Dropping\n– december Kerstwandeling\n8. Rondvraag\n9. Sluiting
URL:https://wijster.bergsma.media/evenement/jaarvergadering-vereniging-voor-volksvermaken/
END:VEVENT
BEGIN:VEVENT
DTSTART;TZID=Europe/Amsterdam:20230322T170000
DTEND;TZID=Europe/Amsterdam:20230322T183000
DTSTAMP:20260422T091724
CREATED:20230218T092119Z
LAST-MODIFIED:20230218T092119Z
UID:1254-1679504400-1679509800@wijster.bergsma.media
SUMMARY:Seniorenrestaurant
DESCRIPTION:Om de ouderen in Wijster samen te brengen\, wil Dorpsbelangen Wijster in samenwerking met Ouderen Onder Dak u een diner aanbieden.\nAan het diner zijn geen kosten verbonden en is inclusief 2 consumpties. Het diner wordt u kosteloos aangeboden en u hoeft ook geen lid te zijn van de ouderensoos. \nWilt u 1 week voor de desbetreffende datum uw opgave doormailen naar dorpsbelangenwijster@outlook.com zodat we de kok kunnen laten weten voor hoeveel personen hij mag koken.\nEr is een maximum van 22 personen\, dus geef u tijdig op. Vol = vol.
URL:https://wijster.bergsma.media/evenement/diner-ouderen-onder-dak/
END:VEVENT
BEGIN:VEVENT
DTSTART;TZID=Europe/Amsterdam:20230326T133000
DTEND;TZID=Europe/Amsterdam:20230326T170000
DTSTAMP:20260422T091724
CREATED:20220908T174142Z
LAST-MODIFIED:20220908T174142Z
UID:1128-1679837400-1679850000@wijster.bergsma.media
SUMMARY:SVWW Handbal
DESCRIPTION:13.30 SVWW DS1-Navique/SVBO\n14.40 SVWW DS2-Meppel AZ \nLocatie : Westerbork
URL:https://wijster.bergsma.media/evenement/svww-handbal-6/
LOCATION:Sporthal De Börkerkoel\, Oude Beilerweg 27\, Westerbork\, DR\, 9431BZ\, Nederland
END:VEVENT
END:VCALENDAR