BEGIN:VCALENDAR
VERSION:2.0
PRODID:-//Wijster - ECPv6.15.20//NONSGML v1.0//EN
CALSCALE:GREGORIAN
METHOD:PUBLISH
X-ORIGINAL-URL:https://wijster.bergsma.media
X-WR-CALDESC:Evenementen voor Wijster
REFRESH-INTERVAL;VALUE=DURATION:PT1H
X-Robots-Tag:noindex
X-PUBLISHED-TTL:PT1H
BEGIN:VTIMEZONE
TZID:Europe/Amsterdam
BEGIN:DAYLIGHT
TZOFFSETFROM:+0100
TZOFFSETTO:+0200
TZNAME:CEST
DTSTART:20220327T010000
END:DAYLIGHT
BEGIN:STANDARD
TZOFFSETFROM:+0200
TZOFFSETTO:+0100
TZNAME:CET
DTSTART:20221030T010000
END:STANDARD
BEGIN:DAYLIGHT
TZOFFSETFROM:+0100
TZOFFSETTO:+0200
TZNAME:CEST
DTSTART:20230326T010000
END:DAYLIGHT
BEGIN:STANDARD
TZOFFSETFROM:+0200
TZOFFSETTO:+0100
TZNAME:CET
DTSTART:20231029T010000
END:STANDARD
BEGIN:DAYLIGHT
TZOFFSETFROM:+0100
TZOFFSETTO:+0200
TZNAME:CEST
DTSTART:20240331T010000
END:DAYLIGHT
BEGIN:STANDARD
TZOFFSETFROM:+0200
TZOFFSETTO:+0100
TZNAME:CET
DTSTART:20241027T010000
END:STANDARD
END:VTIMEZONE
BEGIN:VEVENT
DTSTART;TZID=Europe/Amsterdam:20230106T183000
DTEND;TZID=Europe/Amsterdam:20230106T210000
DTSTAMP:20260422T115800
CREATED:20221204T095524Z
LAST-MODIFIED:20221204T095524Z
UID:1218-1673029800-1673038800@wijster.bergsma.media
SUMMARY:Kinderwerk : DISCO
DESCRIPTION:Disco januari 2023 zwartwit
URL:https://wijster.bergsma.media/evenement/kinderwerk-disco/
END:VEVENT
BEGIN:VEVENT
DTSTART;TZID=Europe/Amsterdam:20230121T190000
DTEND;TZID=Europe/Amsterdam:20230121T223000
DTSTAMP:20260422T115801
CREATED:20220908T173740Z
LAST-MODIFIED:20220908T173740Z
UID:1120-1674327600-1674340200@wijster.bergsma.media
SUMMARY:SVWW Handbal
DESCRIPTION:19.00 SVWW DS2-Tabak Insta/D.O.S\n20.20 SVWW DS1-FHC \nLocatie : Wijster
URL:https://wijster.bergsma.media/evenement/svww-handbal-2/
LOCATION:Sporthal Wijster\, Sportweg 10\, Wijster\, DR\, 9418PA\, Nederland
END:VEVENT
BEGIN:VEVENT
DTSTART;TZID=Europe/Amsterdam:20230124T000000
DTEND;TZID=Europe/Amsterdam:20230124T000000
DTSTAMP:20260422T115801
CREATED:20221107T101319Z
LAST-MODIFIED:20221107T101319Z
UID:1193-1674518400-1674518400@wijster.bergsma.media
SUMMARY:Seniorensoos
DESCRIPTION:
URL:https://wijster.bergsma.media/evenement/seniorensoos/
END:VEVENT
BEGIN:VEVENT
DTSTART;TZID=Europe/Amsterdam:20230129T130000
DTEND;TZID=Europe/Amsterdam:20230129T160000
DTSTAMP:20260422T115801
CREATED:20220908T173835Z
LAST-MODIFIED:20220908T173835Z
UID:1122-1674997200-1675008000@wijster.bergsma.media
SUMMARY:SVWW Handbal
DESCRIPTION:13.00 SVWW DS2-HVE 2000 \nLocatie : Westerbork
URL:https://wijster.bergsma.media/evenement/svww-handbal-3/
LOCATION:Sporthal De Börkerkoel\, Oude Beilerweg 27\, Westerbork\, DR\, 9431BZ\, Nederland
END:VEVENT
END:VCALENDAR