BEGIN:VCALENDAR
VERSION:2.0
PRODID:-//Wijster - ECPv6.15.20//NONSGML v1.0//EN
CALSCALE:GREGORIAN
METHOD:PUBLISH
X-ORIGINAL-URL:https://wijster.bergsma.media
X-WR-CALDESC:Evenementen voor Wijster
REFRESH-INTERVAL;VALUE=DURATION:PT1H
X-Robots-Tag:noindex
X-PUBLISHED-TTL:PT1H
BEGIN:VTIMEZONE
TZID:Europe/Amsterdam
BEGIN:DAYLIGHT
TZOFFSETFROM:+0100
TZOFFSETTO:+0200
TZNAME:CEST
DTSTART:20210328T010000
END:DAYLIGHT
BEGIN:STANDARD
TZOFFSETFROM:+0200
TZOFFSETTO:+0100
TZNAME:CET
DTSTART:20211031T010000
END:STANDARD
BEGIN:DAYLIGHT
TZOFFSETFROM:+0100
TZOFFSETTO:+0200
TZNAME:CEST
DTSTART:20220327T010000
END:DAYLIGHT
BEGIN:STANDARD
TZOFFSETFROM:+0200
TZOFFSETTO:+0100
TZNAME:CET
DTSTART:20221030T010000
END:STANDARD
BEGIN:DAYLIGHT
TZOFFSETFROM:+0100
TZOFFSETTO:+0200
TZNAME:CEST
DTSTART:20230326T010000
END:DAYLIGHT
BEGIN:STANDARD
TZOFFSETFROM:+0200
TZOFFSETTO:+0100
TZNAME:CET
DTSTART:20231029T010000
END:STANDARD
END:VTIMEZONE
BEGIN:VEVENT
DTSTART;TZID=Europe/Amsterdam:20221207T200000
DTEND;TZID=Europe/Amsterdam:20221207T220000
DTSTAMP:20260422T132000
CREATED:20221014T150037Z
LAST-MODIFIED:20221014T150037Z
UID:1181-1670443200-1670450400@wijster.bergsma.media
SUMMARY:Dorpsbelangen: samenwerking besturen
DESCRIPTION:Deze bijeenkomst is verplaatst naar woensdag 7 december! \nOp woensdag 7 december willen we de besturen van alle verenigingen uit het dorp Wijster uitnodigen om verder te praten over mogelijkheden tot samenwerken. We willen graag onderzoeken wat we samen kunnen doen om een gezamenlijk probleem dat we hebben op te lossen: het vinden en behouden van voldoende vrijwilligers voor bestuursfuncties en andere werkzaamheden die nodig zijn om ons verenigingsleven in stand te houden. De uitnodiging hiervoor volgt nog\, maar reserveer alvast deze datum in uw agenda!
URL:https://wijster.bergsma.media/evenement/dorpsbelangen-samenwerking-besturen/
END:VEVENT
BEGIN:VEVENT
DTSTART;TZID=Europe/Amsterdam:20221210T190000
DTEND;TZID=Europe/Amsterdam:20221210T223000
DTSTAMP:20260422T132000
CREATED:20220908T173626Z
LAST-MODIFIED:20220908T173626Z
UID:1118-1670698800-1670711400@wijster.bergsma.media
SUMMARY:SVWW Handbal
DESCRIPTION:19.00 SVWW DS2-Actief Kl\n20.20 SVWW DS21-PK/Unitas \nLocatie : Wijster
URL:https://wijster.bergsma.media/evenement/svww-handbal/
LOCATION:Sporthal Wijster\, Sportweg 10\, Wijster\, DR\, 9418PA\, Nederland
END:VEVENT
BEGIN:VEVENT
DTSTART;TZID=Europe/Amsterdam:20221217T090000
DTEND;TZID=Europe/Amsterdam:20221217T170000
DTSTAMP:20260422T132000
CREATED:20221204T094806Z
LAST-MODIFIED:20221204T094806Z
UID:1214-1671267600-1671296400@wijster.bergsma.media
SUMMARY:Start jeugd zaalvoetbalcompetitie
DESCRIPTION:Op zaterdag 17 december is de start van de jeugd zaalvoetbal competitie. ‘De kunststofplatenshop Champions League’ Aanvang 9:00 uur in Sporthal de Meer.
URL:https://wijster.bergsma.media/evenement/start-jeugd-zaalvoetbalcompetitie/
LOCATION:Sporthal Wijster\, Sportweg 10\, Wijster\, DR\, 9418PA\, Nederland
END:VEVENT
END:VCALENDAR