BEGIN:VCALENDAR
VERSION:2.0
PRODID:-//Wijster - ECPv6.15.20//NONSGML v1.0//EN
CALSCALE:GREGORIAN
METHOD:PUBLISH
X-WR-CALNAME:Wijster
X-ORIGINAL-URL:https://wijster.bergsma.media
X-WR-CALDESC:Evenementen voor Wijster
REFRESH-INTERVAL;VALUE=DURATION:PT1H
X-Robots-Tag:noindex
X-PUBLISHED-TTL:PT1H
BEGIN:VTIMEZONE
TZID:Europe/Amsterdam
BEGIN:DAYLIGHT
TZOFFSETFROM:+0100
TZOFFSETTO:+0200
TZNAME:CEST
DTSTART:20230326T010000
END:DAYLIGHT
BEGIN:STANDARD
TZOFFSETFROM:+0200
TZOFFSETTO:+0100
TZNAME:CET
DTSTART:20231029T010000
END:STANDARD
BEGIN:DAYLIGHT
TZOFFSETFROM:+0100
TZOFFSETTO:+0200
TZNAME:CEST
DTSTART:20240331T010000
END:DAYLIGHT
BEGIN:STANDARD
TZOFFSETFROM:+0200
TZOFFSETTO:+0100
TZNAME:CET
DTSTART:20241027T010000
END:STANDARD
BEGIN:DAYLIGHT
TZOFFSETFROM:+0100
TZOFFSETTO:+0200
TZNAME:CEST
DTSTART:20250330T010000
END:DAYLIGHT
BEGIN:STANDARD
TZOFFSETFROM:+0200
TZOFFSETTO:+0100
TZNAME:CET
DTSTART:20251026T010000
END:STANDARD
END:VTIMEZONE
BEGIN:VEVENT
DTSTART;TZID=Europe/Amsterdam:20240417T170000
DTEND;TZID=Europe/Amsterdam:20240417T200000
DTSTAMP:20260421T150518
CREATED:20230929T095403Z
LAST-MODIFIED:20230929T095403Z
UID:1490-1713373200-1713384000@wijster.bergsma.media
SUMMARY:Seniorenrestaurant
DESCRIPTION:De kosten voor deelname aan het seniorenrestaurant zijn € 12\,50. Dit betreft de maaltijd plus 1 drankje.\n\nOpgave bij Jan Bouwmeester: 06-27017501 (liefst via WhatsApp).\n\nIn principe is het seniorenrestaurant iedere derde woensdag van de maand\, met uitzondering van december.\n\nDe overige data voor dit seizoen\n\n15-05-2024
URL:https://wijster.bergsma.media/evenement/seniorenrestaurant-8/
END:VEVENT
BEGIN:VEVENT
DTSTART;TZID=Europe/Amsterdam:20240417T200000
DTEND;TZID=Europe/Amsterdam:20240417T200000
DTSTAMP:20260421T150518
CREATED:20240301T132524Z
LAST-MODIFIED:20240301T132524Z
UID:1634-1713384000-1713384000@wijster.bergsma.media
SUMMARY:Jaarvergadering St. Dorpshuis
DESCRIPTION:Op woensdag 17 april 2024 om 20.00 uur wordt de jaarvergadering van Stichting Dorpshuis Wijster gehouden. Ontwikkelingen rondom het beheer van het Dorpshuis\, de groeiende groep vrijwilligers\, maar ook de verduurzaming van ons Dorpshuis zijn actuele onderwerpen tijdens de vergadering. We nodigen belangstellenden graag uit om samen met het bestuur mee te denken over de toekomst van ons Dorpshuis.
URL:https://wijster.bergsma.media/evenement/jaarvergadering-st-dorpshuis/
ORGANIZER;CN="Dorpshuis de Weidehoek":MAILTO:beheer@deweidehoek.nl
END:VEVENT
END:VCALENDAR