BEGIN:VCALENDAR
VERSION:2.0
PRODID:-//Wijster - ECPv6.15.20//NONSGML v1.0//EN
CALSCALE:GREGORIAN
METHOD:PUBLISH
X-WR-CALNAME:Wijster
X-ORIGINAL-URL:https://wijster.bergsma.media
X-WR-CALDESC:Evenementen voor Wijster
REFRESH-INTERVAL;VALUE=DURATION:PT1H
X-Robots-Tag:noindex
X-PUBLISHED-TTL:PT1H
BEGIN:VTIMEZONE
TZID:Europe/Amsterdam
BEGIN:DAYLIGHT
TZOFFSETFROM:+0100
TZOFFSETTO:+0200
TZNAME:CEST
DTSTART:20230326T010000
END:DAYLIGHT
BEGIN:STANDARD
TZOFFSETFROM:+0200
TZOFFSETTO:+0100
TZNAME:CET
DTSTART:20231029T010000
END:STANDARD
BEGIN:DAYLIGHT
TZOFFSETFROM:+0100
TZOFFSETTO:+0200
TZNAME:CEST
DTSTART:20240331T010000
END:DAYLIGHT
BEGIN:STANDARD
TZOFFSETFROM:+0200
TZOFFSETTO:+0100
TZNAME:CET
DTSTART:20241027T010000
END:STANDARD
BEGIN:DAYLIGHT
TZOFFSETFROM:+0100
TZOFFSETTO:+0200
TZNAME:CEST
DTSTART:20250330T010000
END:DAYLIGHT
BEGIN:STANDARD
TZOFFSETFROM:+0200
TZOFFSETTO:+0100
TZNAME:CET
DTSTART:20251026T010000
END:STANDARD
END:VTIMEZONE
BEGIN:VEVENT
DTSTART;TZID=Europe/Amsterdam:20240409T193000
DTEND;TZID=Europe/Amsterdam:20240409T210000
DTSTAMP:20260421T150633
CREATED:20240403T144154Z
LAST-MODIFIED:20240403T144154Z
UID:1667-1712691000-1712696400@wijster.bergsma.media
SUMMARY:Zorgcafé Dementie en Parkinson Beilen
DESCRIPTION:Zorgcafé Beilen – dinsdag 9 april 19.30 uur Karspelhof\nDeze keer organiseren we een gecombineerd zorgcafé Dementie en Parkinson met als thema: “Wat te doen als eten en drinken problemen geeft”. Eten en drinken is iets van alle dag. Bij zowel de ziekte van Parkinson als bij dementie kan er een moment komen\, dat dit niet meer zo vanzelfsprekend is. Soms gaat het slikken of kauwen moeilijker\, met als gevolg dat de eetmomenten minder prettig verlopen. Hoe ga je dan om met verslikken\, verminderde spierfunctie of wat kun je doen als het begrip van wat gezegd wordt achteruitgaat. \nEr zijn  twee gastsprekers: logopedist Reinier Bremer en diëtiste Annet Schenkel. Zij gaan samen met de bezoekers onder meer  in gesprek over oorzaak en gevolgen\, hoe eten en drinken zo prettig en gezond mogelijk blijft\, welke hulpmiddelen er zijn en hoe mensen zo lang mogelijk zelf regie kunnen houden. \nHet Zorgcafé is een ontmoetingsplaats\, waar patiënten\, hun partners\, familieleden en andere belangstellenden elkaar in een ongedwongen sfeer kunnen ontmoeten en ervaringen kunnen uitwisselen. \nKomt u ook de 9e  of kent u iemand voor wie deze bijeenkomst interessant is?  Vanaf 19.00 uur is de deur open en staat er koffie/thee klaar. Heeft u problemen met vervoer\, dan kunt u (minimaal 2 werkdagen van tevoren) mailen of bellen met Stichting Buurtvervoer Midden-Drenthe: info@buurtvervoermd.nl of van ma t/m vrijdag van 9.00 – 13.00 uur T. 0593 – 729 492 \nAanmelden vooraf is prettig\, maar niet verplicht en kan door een mail te sturen o.v.v. Zorgcafé Beilen naar info@welzijnswerkmd.nl  of door te bellen op werkdagen naar Welzijnswerk Midden-Drenthe: tel. 088-165 1200 \n2024-04-09 Flyer Zorgcafé logopedist en dietist 
URL:https://wijster.bergsma.media/evenement/zorgcafe-dementie-en-parkinson-beilen/
END:VEVENT
END:VCALENDAR