BEGIN:VCALENDAR
VERSION:2.0
PRODID:-//Wijster - ECPv6.15.20//NONSGML v1.0//EN
CALSCALE:GREGORIAN
METHOD:PUBLISH
X-ORIGINAL-URL:https://wijster.bergsma.media
X-WR-CALDESC:Evenementen voor Wijster
REFRESH-INTERVAL;VALUE=DURATION:PT1H
X-Robots-Tag:noindex
X-PUBLISHED-TTL:PT1H
BEGIN:VTIMEZONE
TZID:Europe/Amsterdam
BEGIN:DAYLIGHT
TZOFFSETFROM:+0100
TZOFFSETTO:+0200
TZNAME:CEST
DTSTART:20230326T010000
END:DAYLIGHT
BEGIN:STANDARD
TZOFFSETFROM:+0200
TZOFFSETTO:+0100
TZNAME:CET
DTSTART:20231029T010000
END:STANDARD
BEGIN:DAYLIGHT
TZOFFSETFROM:+0100
TZOFFSETTO:+0200
TZNAME:CEST
DTSTART:20240331T010000
END:DAYLIGHT
BEGIN:STANDARD
TZOFFSETFROM:+0200
TZOFFSETTO:+0100
TZNAME:CET
DTSTART:20241027T010000
END:STANDARD
BEGIN:DAYLIGHT
TZOFFSETFROM:+0100
TZOFFSETTO:+0200
TZNAME:CEST
DTSTART:20250330T010000
END:DAYLIGHT
BEGIN:STANDARD
TZOFFSETFROM:+0200
TZOFFSETTO:+0100
TZNAME:CET
DTSTART:20251026T010000
END:STANDARD
END:VTIMEZONE
BEGIN:VEVENT
DTSTART;TZID=Europe/Amsterdam:20240316T130000
DTEND;TZID=Europe/Amsterdam:20240316T150000
DTSTAMP:20260421T170556
CREATED:20240301T131459Z
LAST-MODIFIED:20240301T131459Z
UID:1615-1710594000-1710601200@wijster.bergsma.media
SUMMARY:Potgrondactie VV Wijster
DESCRIPTION:
URL:https://wijster.bergsma.media/evenement/potgrondactie-vv-wijster/
END:VEVENT
BEGIN:VEVENT
DTSTART;TZID=Europe/Amsterdam:20240316T190000
DTEND;TZID=Europe/Amsterdam:20240316T210000
DTSTAMP:20260421T170556
CREATED:20230911T173136Z
LAST-MODIFIED:20230911T173136Z
UID:1415-1710615600-1710622800@wijster.bergsma.media
SUMMARY:SVWW Handbal
DESCRIPTION:SVWW DS2-Circeltijgers\n19.00 uur\n\n\nSVWW DS1-VenS\n\n20.15 uur
URL:https://wijster.bergsma.media/evenement/svww-handbal-12/
LOCATION:Sporthal De Börkerkoel\, Oude Beilerweg 27\, Westerbork\, DR\, 9431BZ\, Nederland
END:VEVENT
BEGIN:VEVENT
DTSTART;TZID=Europe/Amsterdam:20240316T200000
DTEND;TZID=Europe/Amsterdam:20240316T233000
DTSTAMP:20260421T170556
CREATED:20240207T054823Z
LAST-MODIFIED:20240207T054823Z
UID:1612-1710619200-1710631800@wijster.bergsma.media
SUMMARY:Playbackshow VvV
DESCRIPTION:
URL:https://wijster.bergsma.media/evenement/playbackshow-vvv/
LOCATION:Sporthal Wijster\, Sportweg 10\, Wijster\, DR\, 9418PA\, Nederland
ORGANIZER;CN="VvV Wijster":MAILTO:info@vvvwijster.nl
END:VEVENT
END:VCALENDAR