BEGIN:VCALENDAR
VERSION:2.0
PRODID:-//Wijster - ECPv6.15.20//NONSGML v1.0//EN
CALSCALE:GREGORIAN
METHOD:PUBLISH
X-ORIGINAL-URL:https://wijster.bergsma.media
X-WR-CALDESC:Evenementen voor Wijster
REFRESH-INTERVAL;VALUE=DURATION:PT1H
X-Robots-Tag:noindex
X-PUBLISHED-TTL:PT1H
BEGIN:VTIMEZONE
TZID:Europe/Amsterdam
BEGIN:DAYLIGHT
TZOFFSETFROM:+0100
TZOFFSETTO:+0200
TZNAME:CEST
DTSTART:20220327T010000
END:DAYLIGHT
BEGIN:STANDARD
TZOFFSETFROM:+0200
TZOFFSETTO:+0100
TZNAME:CET
DTSTART:20221030T010000
END:STANDARD
BEGIN:DAYLIGHT
TZOFFSETFROM:+0100
TZOFFSETTO:+0200
TZNAME:CEST
DTSTART:20230326T010000
END:DAYLIGHT
BEGIN:STANDARD
TZOFFSETFROM:+0200
TZOFFSETTO:+0100
TZNAME:CET
DTSTART:20231029T010000
END:STANDARD
BEGIN:DAYLIGHT
TZOFFSETFROM:+0100
TZOFFSETTO:+0200
TZNAME:CEST
DTSTART:20240331T010000
END:DAYLIGHT
BEGIN:STANDARD
TZOFFSETFROM:+0200
TZOFFSETTO:+0100
TZNAME:CET
DTSTART:20241027T010000
END:STANDARD
END:VTIMEZONE
BEGIN:VEVENT
DTSTART;TZID=Europe/Amsterdam:20231208T190000
DTEND;TZID=Europe/Amsterdam:20231208T230000
DTSTAMP:20260421T210928
CREATED:20231107T091443Z
LAST-MODIFIED:20231107T091443Z
UID:1552-1702062000-1702076400@wijster.bergsma.media
SUMMARY:Kerstworkshop Buurtacademie Wijster
DESCRIPTION:Het is bijna december en stilaan begint het te kriebelen om aan de kerstdecoratie te beginnen. Buurtacademie Wijster organiseert daarom op vrijdagavond 8 december een Kerstworkshop! \nLijkt het jou ook leuk om onder leiding van Mirjam een mooi kerststuk te maken?\nGeef je dan op voor 1 december bij een van de contactpersonen van de Buurtacademie.
URL:https://wijster.bergsma.media/evenement/kerstworkshop-buurtacademie-wijster/
END:VEVENT
END:VCALENDAR