BEGIN:VCALENDAR
VERSION:2.0
PRODID:-//Wijster - ECPv6.15.20//NONSGML v1.0//EN
CALSCALE:GREGORIAN
METHOD:PUBLISH
X-ORIGINAL-URL:https://wijster.bergsma.media
X-WR-CALDESC:Evenementen voor Wijster
REFRESH-INTERVAL;VALUE=DURATION:PT1H
X-Robots-Tag:noindex
X-PUBLISHED-TTL:PT1H
BEGIN:VTIMEZONE
TZID:Europe/Amsterdam
BEGIN:DAYLIGHT
TZOFFSETFROM:+0100
TZOFFSETTO:+0200
TZNAME:CEST
DTSTART:20220327T010000
END:DAYLIGHT
BEGIN:STANDARD
TZOFFSETFROM:+0200
TZOFFSETTO:+0100
TZNAME:CET
DTSTART:20221030T010000
END:STANDARD
BEGIN:DAYLIGHT
TZOFFSETFROM:+0100
TZOFFSETTO:+0200
TZNAME:CEST
DTSTART:20230326T010000
END:DAYLIGHT
BEGIN:STANDARD
TZOFFSETFROM:+0200
TZOFFSETTO:+0100
TZNAME:CET
DTSTART:20231029T010000
END:STANDARD
BEGIN:DAYLIGHT
TZOFFSETFROM:+0100
TZOFFSETTO:+0200
TZNAME:CEST
DTSTART:20240331T010000
END:DAYLIGHT
BEGIN:STANDARD
TZOFFSETFROM:+0200
TZOFFSETTO:+0100
TZNAME:CET
DTSTART:20241027T010000
END:STANDARD
END:VTIMEZONE
BEGIN:VEVENT
DTSTART;TZID=Europe/Amsterdam:20231125T110000
DTEND;TZID=Europe/Amsterdam:20231125T150000
DTSTAMP:20260421T223608
CREATED:20231110T134441Z
LAST-MODIFIED:20231110T134441Z
UID:1555-1700910000-1700924400@wijster.bergsma.media
SUMMARY:Energiemarkt Duurzaam Beilen
DESCRIPTION:Duurzaam Beilen organiseert op 25 november van 11.00 tot 15.00 uur een energiemarkt in Volta\, Omloop 5 te Beilen. \nOntdek hoe je jouw energierekening kunt verlagen en tegelijkertijd een steentje kan bijdragen aan het milieu. Je kunt verschillende presentaties bijwonen. Denk aan handige tips om je huis te verduurzamen en informatie zoals zonnepark de Mussels. Ook zijn er standhouders die je alles kunnen vertellen over warmtepompen\, zonnepanelen en isolatie. \nAanmelden en verdere informatie: www.duurzaambeilen.nl (energiemarkt). \nMet vriendelijke groet\, \nDorpenoverleg Midden-Drenthe
URL:https://wijster.bergsma.media/evenement/energiemarkt-duurzaam-beilen/
END:VEVENT
BEGIN:VEVENT
DTSTART;TZID=Europe/Amsterdam:20231125T180000
DTEND;TZID=Europe/Amsterdam:20231125T233000
DTSTAMP:20260421T223608
CREATED:20230920T140203Z
LAST-MODIFIED:20230920T140203Z
UID:1427-1700935200-1700955000@wijster.bergsma.media
SUMMARY:Blues Night (gratis entree)
DESCRIPTION:
URL:https://wijster.bergsma.media/evenement/blues-night-gratis-entree/
END:VEVENT
END:VCALENDAR