BEGIN:VCALENDAR
VERSION:2.0
PRODID:-//Wijster - ECPv6.15.20//NONSGML v1.0//EN
CALSCALE:GREGORIAN
METHOD:PUBLISH
X-ORIGINAL-URL:https://wijster.bergsma.media
X-WR-CALDESC:Evenementen voor Wijster
REFRESH-INTERVAL;VALUE=DURATION:PT1H
X-Robots-Tag:noindex
X-PUBLISHED-TTL:PT1H
BEGIN:VTIMEZONE
TZID:Europe/Amsterdam
BEGIN:DAYLIGHT
TZOFFSETFROM:+0100
TZOFFSETTO:+0200
TZNAME:CEST
DTSTART:20220327T010000
END:DAYLIGHT
BEGIN:STANDARD
TZOFFSETFROM:+0200
TZOFFSETTO:+0100
TZNAME:CET
DTSTART:20221030T010000
END:STANDARD
BEGIN:DAYLIGHT
TZOFFSETFROM:+0100
TZOFFSETTO:+0200
TZNAME:CEST
DTSTART:20230326T010000
END:DAYLIGHT
BEGIN:STANDARD
TZOFFSETFROM:+0200
TZOFFSETTO:+0100
TZNAME:CET
DTSTART:20231029T010000
END:STANDARD
BEGIN:DAYLIGHT
TZOFFSETFROM:+0100
TZOFFSETTO:+0200
TZNAME:CEST
DTSTART:20240331T010000
END:DAYLIGHT
BEGIN:STANDARD
TZOFFSETFROM:+0200
TZOFFSETTO:+0100
TZNAME:CET
DTSTART:20241027T010000
END:STANDARD
END:VTIMEZONE
BEGIN:VEVENT
DTSTART;TZID=Europe/Amsterdam:20231123T193000
DTEND;TZID=Europe/Amsterdam:20231123T223000
DTSTAMP:20260421T223609
CREATED:20231107T091149Z
LAST-MODIFIED:20231107T091149Z
UID:1550-1700767800-1700778600@wijster.bergsma.media
SUMMARY:Inspraakavond aanleg zonneparken
DESCRIPTION:Ook in onze gemeente gebeurt er van alles rond de energietransitie. Een goede\nzaak\, want duurzame energie in de toekomst vraagt om actie vandaag! De gemeente\nis met veel ambitie bezig om een bijdrage te leveren aan de opwek van\n‘hernieuwbare’ energie. Grote projectontwikkelaars kloppen nu aan voor de bouw van\nzonneparken in Midden-Drenthe. \nBegin volgend jaar vindt er een publieke aanbesteding voor de aanleg van\nzonneparken plaats. Bij die aanbesteding wordt gekeken waar ze komen te staan en\nhoe ze eruitzien. Uit alle inschrijvingen maakt de gemeente dan een selectie. Een\nbelangrijk uitgangspunt bij de beoordeling van die projecten is dat alle inwoners\nbetrokken moeten zijn. Dit geldt zowel voor de locatie\, als ook bij de inpassing in het\nlandschap. \nDaarom organiseert het Dorpenoverleg Midden-Drenthe samen met de gemeente\,\ninspraakavonden om de mening van inwoners duidelijk te krijgen over de aanleg van\neen groot zonnepark. Dan kan de gemeente daar rekening mee houden bij de\nopstelling van de spelregels van de aanbesteding. \nOp een kaart zijn gebieden aangegeven die al of niet in aanmerking komen. Daar\nkunt u op reageren. Een projectontwikkelaar moet ook de aanleg en inrichting van\neen zonnepark met de inwoners vooraf bespreken. Wat betekent zo’n participatie\nvoor u als inwoner? \nHet gaat om belangrijke ontwikkelingen waar ook u mee te maken kunt krijgen. U\nwordt dan ook van harte uitgenodigd om aanwezig te zijn tijdens één van de\ninspraakavonden. \nINSPRAAKAVOND ZONNEPARKEN \nWoensdag 8 november 19:30 – 22:30 Smilde Zalencentrum Het Kompas\nDonderdag 16 november 19:30 – 22:30 Westerbork Zalencentrum De Voorhof\nDinsdag 21 november 19:30 – 22:30 Balinge Dorpshuis ‘t Broekhoes\nDonderdag 23 november 19:30 – 22:30 Wijster Dorpshuis Weidehoek \nHeeft U vragen over deze bijeenkomsten\, dan kunt u contact opnemen met\nGer Steenbergen (Dorpenoverleg Midden-Drenthe) via 06 – 522 544 88.
URL:https://wijster.bergsma.media/evenement/inspraakavond-aanleg-zonneparken/
END:VEVENT
END:VCALENDAR