BEGIN:VCALENDAR
VERSION:2.0
PRODID:-//Wijster - ECPv6.15.20//NONSGML v1.0//EN
CALSCALE:GREGORIAN
METHOD:PUBLISH
X-ORIGINAL-URL:https://wijster.bergsma.media
X-WR-CALDESC:Evenementen voor Wijster
REFRESH-INTERVAL;VALUE=DURATION:PT1H
X-Robots-Tag:noindex
X-PUBLISHED-TTL:PT1H
BEGIN:VTIMEZONE
TZID:Europe/Amsterdam
BEGIN:DAYLIGHT
TZOFFSETFROM:+0100
TZOFFSETTO:+0200
TZNAME:CEST
DTSTART:20220327T010000
END:DAYLIGHT
BEGIN:STANDARD
TZOFFSETFROM:+0200
TZOFFSETTO:+0100
TZNAME:CET
DTSTART:20221030T010000
END:STANDARD
BEGIN:DAYLIGHT
TZOFFSETFROM:+0100
TZOFFSETTO:+0200
TZNAME:CEST
DTSTART:20230326T010000
END:DAYLIGHT
BEGIN:STANDARD
TZOFFSETFROM:+0200
TZOFFSETTO:+0100
TZNAME:CET
DTSTART:20231029T010000
END:STANDARD
BEGIN:DAYLIGHT
TZOFFSETFROM:+0100
TZOFFSETTO:+0200
TZNAME:CEST
DTSTART:20240331T010000
END:DAYLIGHT
BEGIN:STANDARD
TZOFFSETFROM:+0200
TZOFFSETTO:+0100
TZNAME:CET
DTSTART:20241027T010000
END:STANDARD
END:VTIMEZONE
BEGIN:VEVENT
DTSTART;TZID=Europe/Amsterdam:20231118T190000
DTEND;TZID=Europe/Amsterdam:20231118T210000
DTSTAMP:20260421T223608
CREATED:20230911T172448Z
LAST-MODIFIED:20230911T172448Z
UID:1405-1700334000-1700341200@wijster.bergsma.media
SUMMARY:SVWW Handbal
DESCRIPTION:SVWW DS2-Unitas\n\n19.00 uur\n\n\nSVWW DS1-HVZ Vivendi\n20.15
URL:https://wijster.bergsma.media/evenement/svww-handbal-8/
LOCATION:Sporthal Wijster\, Sportweg 10\, Wijster\, DR\, 9418PA\, Nederland
END:VEVENT
BEGIN:VEVENT
DTSTART;TZID=Europe/Amsterdam:20231118T200000
DTEND;TZID=Europe/Amsterdam:20231118T235900
DTSTAMP:20260421T223608
CREATED:20231020T105030Z
LAST-MODIFIED:20231020T105030Z
UID:1524-1700337600-1700351940@wijster.bergsma.media
SUMMARY:Voorstelling van de toneelvereniging Wijster
DESCRIPTION:
URL:https://wijster.bergsma.media/evenement/voorstelling-van-de-toneelvereniging-wijster/
END:VEVENT
END:VCALENDAR