BEGIN:VCALENDAR
VERSION:2.0
PRODID:-//Wijster - ECPv6.15.20//NONSGML v1.0//EN
CALSCALE:GREGORIAN
METHOD:PUBLISH
X-ORIGINAL-URL:https://wijster.bergsma.media
X-WR-CALDESC:Evenementen voor Wijster
REFRESH-INTERVAL;VALUE=DURATION:PT1H
X-Robots-Tag:noindex
X-PUBLISHED-TTL:PT1H
BEGIN:VTIMEZONE
TZID:Europe/Amsterdam
BEGIN:DAYLIGHT
TZOFFSETFROM:+0100
TZOFFSETTO:+0200
TZNAME:CEST
DTSTART:20220327T010000
END:DAYLIGHT
BEGIN:STANDARD
TZOFFSETFROM:+0200
TZOFFSETTO:+0100
TZNAME:CET
DTSTART:20221030T010000
END:STANDARD
BEGIN:DAYLIGHT
TZOFFSETFROM:+0100
TZOFFSETTO:+0200
TZNAME:CEST
DTSTART:20230326T010000
END:DAYLIGHT
BEGIN:STANDARD
TZOFFSETFROM:+0200
TZOFFSETTO:+0100
TZNAME:CET
DTSTART:20231029T010000
END:STANDARD
BEGIN:DAYLIGHT
TZOFFSETFROM:+0100
TZOFFSETTO:+0200
TZNAME:CEST
DTSTART:20240331T010000
END:DAYLIGHT
BEGIN:STANDARD
TZOFFSETFROM:+0200
TZOFFSETTO:+0100
TZNAME:CET
DTSTART:20241027T010000
END:STANDARD
END:VTIMEZONE
BEGIN:VEVENT
DTSTART;TZID=Europe/Amsterdam:20231014T080000
DTEND;TZID=Europe/Amsterdam:20231014T130000
DTSTAMP:20260422T000713
CREATED:20230114T091213Z
LAST-MODIFIED:20230114T091213Z
UID:1231-1697270400-1697288400@wijster.bergsma.media
SUMMARY:Oud papier
DESCRIPTION:Doe het oud papier in de oude afval container. Zit deze vol dan bij voorkeur in kleine afgesloten dozen en maak deze niet te zwaar. Wat als prettig ervaren wordt is het klaar zetten in de kruiwagen\, zodat er niet diep gebukt hoeft te worden. \nVoor meer informatie en contactpersoon: Afvalinzameling in het Dorp
URL:https://wijster.bergsma.media/evenement/oud-papier-2/
END:VEVENT
END:VCALENDAR