BEGIN:VCALENDAR
VERSION:2.0
PRODID:-//Wijster - ECPv6.15.20//NONSGML v1.0//EN
CALSCALE:GREGORIAN
METHOD:PUBLISH
X-ORIGINAL-URL:https://wijster.bergsma.media
X-WR-CALDESC:Evenementen voor Wijster
REFRESH-INTERVAL;VALUE=DURATION:PT1H
X-Robots-Tag:noindex
X-PUBLISHED-TTL:PT1H
BEGIN:VTIMEZONE
TZID:Europe/Amsterdam
BEGIN:DAYLIGHT
TZOFFSETFROM:+0100
TZOFFSETTO:+0200
TZNAME:CEST
DTSTART:20220327T010000
END:DAYLIGHT
BEGIN:STANDARD
TZOFFSETFROM:+0200
TZOFFSETTO:+0100
TZNAME:CET
DTSTART:20221030T010000
END:STANDARD
BEGIN:DAYLIGHT
TZOFFSETFROM:+0100
TZOFFSETTO:+0200
TZNAME:CEST
DTSTART:20230326T010000
END:DAYLIGHT
BEGIN:STANDARD
TZOFFSETFROM:+0200
TZOFFSETTO:+0100
TZNAME:CET
DTSTART:20231029T010000
END:STANDARD
BEGIN:DAYLIGHT
TZOFFSETFROM:+0100
TZOFFSETTO:+0200
TZNAME:CEST
DTSTART:20240331T010000
END:DAYLIGHT
BEGIN:STANDARD
TZOFFSETFROM:+0200
TZOFFSETTO:+0100
TZNAME:CET
DTSTART:20241027T010000
END:STANDARD
END:VTIMEZONE
BEGIN:VEVENT
DTSTART;TZID=Europe/Amsterdam:20231010T193000
DTEND;TZID=Europe/Amsterdam:20231010T210000
DTSTAMP:20260422T000714
CREATED:20230929T141316Z
LAST-MODIFIED:20230929T141316Z
UID:1502-1696966200-1696971600@wijster.bergsma.media
SUMMARY:Zorgcafé Dementie Beilen
DESCRIPTION:Zorgcafé Dementie Beilen – Financiën en dementie \nWanneer: Dinsdag 10 oktober 2023 van 19.30 – 21.00 uur (zaal open vanaf 19.00 uur)\nWaar: De Karspelhof\, Hofstraat 19\, Beilen\nSpreker: Hilda van der Heide \n2023-10-10-Flyer-Zorgcafe-Financien-en-Dementie
URL:https://wijster.bergsma.media/evenement/zorgcafe-dementie-beilen/
END:VEVENT
END:VCALENDAR