BEGIN:VCALENDAR
VERSION:2.0
PRODID:-//Wijster - ECPv6.15.20//NONSGML v1.0//EN
CALSCALE:GREGORIAN
METHOD:PUBLISH
X-ORIGINAL-URL:https://wijster.bergsma.media
X-WR-CALDESC:Evenementen voor Wijster
REFRESH-INTERVAL;VALUE=DURATION:PT1H
X-Robots-Tag:noindex
X-PUBLISHED-TTL:PT1H
BEGIN:VTIMEZONE
TZID:Europe/Amsterdam
BEGIN:DAYLIGHT
TZOFFSETFROM:+0100
TZOFFSETTO:+0200
TZNAME:CEST
DTSTART:20220327T010000
END:DAYLIGHT
BEGIN:STANDARD
TZOFFSETFROM:+0200
TZOFFSETTO:+0100
TZNAME:CET
DTSTART:20221030T010000
END:STANDARD
BEGIN:DAYLIGHT
TZOFFSETFROM:+0100
TZOFFSETTO:+0200
TZNAME:CEST
DTSTART:20230326T010000
END:DAYLIGHT
BEGIN:STANDARD
TZOFFSETFROM:+0200
TZOFFSETTO:+0100
TZNAME:CET
DTSTART:20231029T010000
END:STANDARD
BEGIN:DAYLIGHT
TZOFFSETFROM:+0100
TZOFFSETTO:+0200
TZNAME:CEST
DTSTART:20240331T010000
END:DAYLIGHT
BEGIN:STANDARD
TZOFFSETFROM:+0200
TZOFFSETTO:+0100
TZNAME:CET
DTSTART:20241027T010000
END:STANDARD
END:VTIMEZONE
BEGIN:VEVENT
DTSTART;TZID=Europe/Amsterdam:20231004T193000
DTEND;TZID=Europe/Amsterdam:20231004T213000
DTSTAMP:20260422T000716
CREATED:20230911T165719Z
LAST-MODIFIED:20230911T165719Z
UID:1395-1696447800-1696455000@wijster.bergsma.media
SUMMARY:Voorlichting bodemverzorging fruitbomen
DESCRIPTION:Landschapsbeheer Drenthe organiseert in samenwerking met de Snoeigroep Wijster op 4 oktober in dorpshuis De Weidehoek een voorlichtings/informatieavond over de bodemverzorging van fruitbomen en bessenstruiken. \nNaast het snoeien van fruitbomen/bessenstruiken is een goede verzorging van de ondergrond waarin de bomen wortelen zeer aan te raden/van belang. Dit bevordert de groei en daarmee de ontwikkeling van de vruchten. \nOp deze avond komen aan de orde: \nBodem en onderhoud\, bemesting en voeding\, de vochthuishouding en andere praktische tips. \nOm inzicht te krijgen in de bodemgesteldheid rondom onze vruchtbomen\, kunnen de deelnemers aan deze avond een zakje/potje grond (ongeveer een halve ltr.) meenemen. \nDe avond wordt geleid door André Efftink\, onderzoeker/deskundige van/namens  Landschapsbeheer Drenthe. \nOp deze avond is iedereen welkom en de koffie staat klaar. \nVoorlichter: André Efftink \n 
URL:https://wijster.bergsma.media/evenement/voorlichting-bodem-verzorging-fruitbomen/
END:VEVENT
END:VCALENDAR