BEGIN:VCALENDAR
VERSION:2.0
PRODID:-//Wijster - ECPv6.15.20//NONSGML v1.0//EN
CALSCALE:GREGORIAN
METHOD:PUBLISH
X-ORIGINAL-URL:https://wijster.bergsma.media
X-WR-CALDESC:Evenementen voor Wijster
REFRESH-INTERVAL;VALUE=DURATION:PT1H
X-Robots-Tag:noindex
X-PUBLISHED-TTL:PT1H
BEGIN:VTIMEZONE
TZID:Europe/Amsterdam
BEGIN:DAYLIGHT
TZOFFSETFROM:+0100
TZOFFSETTO:+0200
TZNAME:CEST
DTSTART:20220327T010000
END:DAYLIGHT
BEGIN:STANDARD
TZOFFSETFROM:+0200
TZOFFSETTO:+0100
TZNAME:CET
DTSTART:20221030T010000
END:STANDARD
BEGIN:DAYLIGHT
TZOFFSETFROM:+0100
TZOFFSETTO:+0200
TZNAME:CEST
DTSTART:20230326T010000
END:DAYLIGHT
BEGIN:STANDARD
TZOFFSETFROM:+0200
TZOFFSETTO:+0100
TZNAME:CET
DTSTART:20231029T010000
END:STANDARD
BEGIN:DAYLIGHT
TZOFFSETFROM:+0100
TZOFFSETTO:+0200
TZNAME:CEST
DTSTART:20240331T010000
END:DAYLIGHT
BEGIN:STANDARD
TZOFFSETFROM:+0200
TZOFFSETTO:+0100
TZNAME:CET
DTSTART:20241027T010000
END:STANDARD
END:VTIMEZONE
BEGIN:VEVENT
DTSTART;TZID=Europe/Amsterdam:20230918T143000
DTEND;TZID=Europe/Amsterdam:20230918T170000
DTSTAMP:20260422T030306
CREATED:20230903T095425Z
LAST-MODIFIED:20230903T095425Z
UID:1380-1695047400-1695056400@wijster.bergsma.media
SUMMARY:MTB training
DESCRIPTION:Doe mee met onze MTB training door JB Cycling \nHet EK wielrennen komt er straks aan met de finish om de hoek\, de Wiesterse Vambult. Om in de stemming te komen\, kun je een middag komen fietsen op het Bike Parc bij de VAM berg. Heb je zelf geen mountainbike? Geen probleem: de instructeur neemt fietsen mee! Zo kan iedereen meedoen. \nMaandag 18 september\nOm 14:30 uur verzamelen we op de P bij kiosk De Blinkerd. Daar verzorgen wij wat te eten en drinken. Vanaf 15:00 uur mag je zelf het parcours rijden dat wordt uitgezet. Wil je echt je skills verbeteren? Doe dan mee met de les die aansluitend wordt gegeven door Johan voor tips & tricks. Het parcours wordt dan net even wat uitdagender gemaakt. Dit eindigt om 17:00 uur.\nDe middag is geschikt voor kinderen die al een mooi rondje kunnen fietsen\, ongeveer vanaf 7 jaar tot en met groep 8. Toegang gratis! \nBekijk hieronder de flyer. \nDOC-20230831-WA0010
URL:https://wijster.bergsma.media/evenement/mtb-training/
END:VEVENT
END:VCALENDAR