BEGIN:VCALENDAR
VERSION:2.0
PRODID:-//Wijster - ECPv6.15.20//NONSGML v1.0//EN
CALSCALE:GREGORIAN
METHOD:PUBLISH
X-WR-CALNAME:Wijster
X-ORIGINAL-URL:https://wijster.bergsma.media
X-WR-CALDESC:Evenementen voor Wijster
REFRESH-INTERVAL;VALUE=DURATION:PT1H
X-Robots-Tag:noindex
X-PUBLISHED-TTL:PT1H
BEGIN:VTIMEZONE
TZID:Europe/Amsterdam
BEGIN:DAYLIGHT
TZOFFSETFROM:+0100
TZOFFSETTO:+0200
TZNAME:CEST
DTSTART:20220327T010000
END:DAYLIGHT
BEGIN:STANDARD
TZOFFSETFROM:+0200
TZOFFSETTO:+0100
TZNAME:CET
DTSTART:20221030T010000
END:STANDARD
BEGIN:DAYLIGHT
TZOFFSETFROM:+0100
TZOFFSETTO:+0200
TZNAME:CEST
DTSTART:20230326T010000
END:DAYLIGHT
BEGIN:STANDARD
TZOFFSETFROM:+0200
TZOFFSETTO:+0100
TZNAME:CET
DTSTART:20231029T010000
END:STANDARD
BEGIN:DAYLIGHT
TZOFFSETFROM:+0100
TZOFFSETTO:+0200
TZNAME:CEST
DTSTART:20240331T010000
END:DAYLIGHT
BEGIN:STANDARD
TZOFFSETFROM:+0200
TZOFFSETTO:+0100
TZNAME:CET
DTSTART:20241027T010000
END:STANDARD
END:VTIMEZONE
BEGIN:VEVENT
DTSTART;TZID=Europe/Amsterdam:20230909T080000
DTEND;TZID=Europe/Amsterdam:20230909T130000
DTSTAMP:20260422T012813
CREATED:20220906T133057Z
LAST-MODIFIED:20220906T133057Z
UID:1099-1694246400-1694264400@wijster.bergsma.media
SUMMARY:Oud papier
DESCRIPTION:Doe het oud papier in de oude afval container. Zit deze vol dan bij voorkeur in kleine afgesloten dozen en maak deze niet te zwaar. Wat als prettig ervaren wordt is het klaar zetten in de kruiwagen\, zodat er niet diep gebukt hoeft te worden.
URL:https://wijster.bergsma.media/evenement/oud-papier-3/
END:VEVENT
BEGIN:VEVENT
DTSTART;TZID=Europe/Amsterdam:20230909T110000
DTEND;TZID=Europe/Amsterdam:20230909T120000
DTSTAMP:20260422T012813
CREATED:20230903T092902Z
LAST-MODIFIED:20230903T092902Z
UID:1372-1694257200-1694260800@wijster.bergsma.media
SUMMARY:Kaboutervoetbal van start
DESCRIPTION:Het kaboutervoetbal gaat 9 september van start! Op zaterdag ochtend vanaf 11:00 uur kan er getraind worden door onze kabouters. Uw zoon of dochter hoeft geen lid te zijn om op zaterdag ochtend eens mee te komen trainen. Voor meer informatie stuur eens een mailtje naar secretariaat@vvwijster.nl of benader Frank Bosma hiervoor.
URL:https://wijster.bergsma.media/evenement/kaboutervoetbal-van-start/
END:VEVENT
END:VCALENDAR