BEGIN:VCALENDAR
VERSION:2.0
PRODID:-//Wijster - ECPv6.15.20//NONSGML v1.0//EN
CALSCALE:GREGORIAN
METHOD:PUBLISH
X-WR-CALNAME:Wijster
X-ORIGINAL-URL:https://wijster.bergsma.media
X-WR-CALDESC:Evenementen voor Wijster
REFRESH-INTERVAL;VALUE=DURATION:PT1H
X-Robots-Tag:noindex
X-PUBLISHED-TTL:PT1H
BEGIN:VTIMEZONE
TZID:Europe/Amsterdam
BEGIN:DAYLIGHT
TZOFFSETFROM:+0100
TZOFFSETTO:+0200
TZNAME:CEST
DTSTART:20220327T010000
END:DAYLIGHT
BEGIN:STANDARD
TZOFFSETFROM:+0200
TZOFFSETTO:+0100
TZNAME:CET
DTSTART:20221030T010000
END:STANDARD
BEGIN:DAYLIGHT
TZOFFSETFROM:+0100
TZOFFSETTO:+0200
TZNAME:CEST
DTSTART:20230326T010000
END:DAYLIGHT
BEGIN:STANDARD
TZOFFSETFROM:+0200
TZOFFSETTO:+0100
TZNAME:CET
DTSTART:20231029T010000
END:STANDARD
BEGIN:DAYLIGHT
TZOFFSETFROM:+0100
TZOFFSETTO:+0200
TZNAME:CEST
DTSTART:20240331T010000
END:DAYLIGHT
BEGIN:STANDARD
TZOFFSETFROM:+0200
TZOFFSETTO:+0100
TZNAME:CET
DTSTART:20241027T010000
END:STANDARD
END:VTIMEZONE
BEGIN:VEVENT
DTSTART;TZID=Europe/Amsterdam:20230318T130000
DTEND;TZID=Europe/Amsterdam:20230318T160000
DTSTAMP:20260422T104056
CREATED:20230313T184950Z
LAST-MODIFIED:20230313T184950Z
UID:1280-1679144400-1679155200@wijster.bergsma.media
SUMMARY:Potgrond Actie IKC de Zuiderenk
DESCRIPTION:Potgrond (40 liter)\n\n\n1 zak\n€ 6\,00\n\n\n2 zakken\n€ 10\,00\n\n\n3 zakken\n€ 15\,00\n\n\nViolen\n\n\n\ntray\n€ 3\,00\n\n\n2 trays\n€ 5\,00
URL:https://wijster.bergsma.media/evenement/potgrond-actie-ikc-de-zuideren/
END:VEVENT
END:VCALENDAR