BEGIN:VCALENDAR
VERSION:2.0
PRODID:-//Wijster - ECPv6.15.20//NONSGML v1.0//EN
CALSCALE:GREGORIAN
METHOD:PUBLISH
X-ORIGINAL-URL:https://wijster.bergsma.media
X-WR-CALDESC:Evenementen voor Wijster
REFRESH-INTERVAL;VALUE=DURATION:PT1H
X-Robots-Tag:noindex
X-PUBLISHED-TTL:PT1H
BEGIN:VTIMEZONE
TZID:Europe/Amsterdam
BEGIN:DAYLIGHT
TZOFFSETFROM:+0100
TZOFFSETTO:+0200
TZNAME:CEST
DTSTART:20210328T010000
END:DAYLIGHT
BEGIN:STANDARD
TZOFFSETFROM:+0200
TZOFFSETTO:+0100
TZNAME:CET
DTSTART:20211031T010000
END:STANDARD
BEGIN:DAYLIGHT
TZOFFSETFROM:+0100
TZOFFSETTO:+0200
TZNAME:CEST
DTSTART:20220327T010000
END:DAYLIGHT
BEGIN:STANDARD
TZOFFSETFROM:+0200
TZOFFSETTO:+0100
TZNAME:CET
DTSTART:20221030T010000
END:STANDARD
BEGIN:DAYLIGHT
TZOFFSETFROM:+0100
TZOFFSETTO:+0200
TZNAME:CEST
DTSTART:20230326T010000
END:DAYLIGHT
BEGIN:STANDARD
TZOFFSETFROM:+0200
TZOFFSETTO:+0100
TZNAME:CET
DTSTART:20231029T010000
END:STANDARD
END:VTIMEZONE
BEGIN:VEVENT
DTSTART;TZID=Europe/Amsterdam:20221126T140000
DTEND;TZID=Europe/Amsterdam:20221126T170000
DTSTAMP:20260422T161735
CREATED:20221107T102910Z
LAST-MODIFIED:20221107T102910Z
UID:1205-1669471200-1669482000@wijster.bergsma.media
SUMMARY:Toneeluitvoering Ouderen Onder Dak
DESCRIPTION:“Alle ballen op Bertha” \n25 november 18:30 Generale repetitie voor alle kinderen te bezichtigen. Georganiseerd door de jeugdafdeling van VV Wijster. Toegang is gratis \n26 november 14:00\, middagvoorstelling georganiseerd door Ouderen Onder Dak. Toegang 10\,- per persoon (incl koffie en gebak). In de pauze is er een verloting met mooie prijzen. \n26 november 20:00\, avondvoorstelling georganiseerd door de VV Wijster. Toegang 10\,- per persoon. In de pauze is er een verloting met mooie prijzen.
URL:https://wijster.bergsma.media/evenement/toneeluitvoering-ouderen-onder-dak/
END:VEVENT
BEGIN:VEVENT
DTSTART;TZID=Europe/Amsterdam:20221126T150000
DTEND;TZID=Europe/Amsterdam:20221126T170000
DTSTAMP:20260422T161735
CREATED:20221107T101650Z
LAST-MODIFIED:20221107T101650Z
UID:1197-1669474800-1669482000@wijster.bergsma.media
SUMMARY:Eijg&Wijs: Sinterklaas
DESCRIPTION:
URL:https://wijster.bergsma.media/evenement/eijgwijs-sinterklaas/
END:VEVENT
BEGIN:VEVENT
DTSTART;TZID=Europe/Amsterdam:20221126T190000
DTEND;TZID=Europe/Amsterdam:20221126T223000
DTSTAMP:20260422T161735
CREATED:20220908T173504Z
LAST-MODIFIED:20220908T173504Z
UID:1116-1669489200-1669501800@wijster.bergsma.media
SUMMARY:SVWW - Borger
DESCRIPTION:19.00 SVWW DS2-Borger\n20.20 SVWW DS1-Borger \nLocatie : Westerbork
URL:https://wijster.bergsma.media/evenement/svww-borger/
LOCATION:Sporthal De Börkerkoel\, Oude Beilerweg 27\, Westerbork\, DR\, 9431BZ\, Nederland
END:VEVENT
BEGIN:VEVENT
DTSTART;TZID=Europe/Amsterdam:20221126T200000
DTEND;TZID=Europe/Amsterdam:20221126T230000
DTSTAMP:20260422T161735
CREATED:20221107T101618Z
LAST-MODIFIED:20221107T101618Z
UID:1195-1669492800-1669503600@wijster.bergsma.media
SUMMARY:Toneeluitvoering VV Wijster
DESCRIPTION:“Alle ballen op Bertha” \n25 november 18:30 Generale repetitie voor alle kinderen te bezichtigen. Georganiseerd door de jeugdafdeling van VV Wijster. Toegang is gratis \n26 november 14:00\, middagvoorstelling georganiseerd door Ouderen Onder Dak. Toegang 10\,- per persoon (incl koffie en gebak). In de pauze is er een verloting met mooie prijzen. \n26 november 20:00\, avondvoorstelling georganiseerd door de VV Wijster. Toegang 10\,- per persoon. In de pauze is er een verloting met mooie prijzen. \n 
URL:https://wijster.bergsma.media/evenement/toneeluitvoering-vv-wijster/
END:VEVENT
END:VCALENDAR