BEGIN:VCALENDAR
VERSION:2.0
PRODID:-//Wijster - ECPv6.15.20//NONSGML v1.0//EN
CALSCALE:GREGORIAN
METHOD:PUBLISH
X-WR-CALNAME:Wijster
X-ORIGINAL-URL:https://wijster.bergsma.media
X-WR-CALDESC:Evenementen voor Wijster
REFRESH-INTERVAL;VALUE=DURATION:PT1H
X-Robots-Tag:noindex
X-PUBLISHED-TTL:PT1H
BEGIN:VTIMEZONE
TZID:Europe/Amsterdam
BEGIN:DAYLIGHT
TZOFFSETFROM:+0100
TZOFFSETTO:+0200
TZNAME:CEST
DTSTART:20210328T010000
END:DAYLIGHT
BEGIN:STANDARD
TZOFFSETFROM:+0200
TZOFFSETTO:+0100
TZNAME:CET
DTSTART:20211031T010000
END:STANDARD
BEGIN:DAYLIGHT
TZOFFSETFROM:+0100
TZOFFSETTO:+0200
TZNAME:CEST
DTSTART:20220327T010000
END:DAYLIGHT
BEGIN:STANDARD
TZOFFSETFROM:+0200
TZOFFSETTO:+0100
TZNAME:CET
DTSTART:20221030T010000
END:STANDARD
BEGIN:DAYLIGHT
TZOFFSETFROM:+0100
TZOFFSETTO:+0200
TZNAME:CEST
DTSTART:20230326T010000
END:DAYLIGHT
BEGIN:STANDARD
TZOFFSETFROM:+0200
TZOFFSETTO:+0100
TZNAME:CET
DTSTART:20231029T010000
END:STANDARD
END:VTIMEZONE
BEGIN:VEVENT
DTSTART;TZID=Europe/Amsterdam:20221112T190000
DTEND;TZID=Europe/Amsterdam:20221112T223000
DTSTAMP:20260422T161725
CREATED:20220908T172600Z
LAST-MODIFIED:20220908T172600Z
UID:1114-1668279600-1668292200@wijster.bergsma.media
SUMMARY:SVWW Handbal
DESCRIPTION:19.00 SVWW DS2-Beilen\n20.20 SVWW DS1-Hoogersmilde \nLocatie : Wijster
URL:https://wijster.bergsma.media/evenement/svww-beilen-svww-hoogersmilde/
LOCATION:Sporthal Wijster\, Sportweg 10\, Wijster\, DR\, 9418PA\, Nederland
END:VEVENT
BEGIN:VEVENT
DTSTART;TZID=Europe/Amsterdam:20221112T200000
DTEND;TZID=Europe/Amsterdam:20221112T230000
DTSTAMP:20260422T161725
CREATED:20221107T101210Z
LAST-MODIFIED:20221107T101210Z
UID:1191-1668283200-1668294000@wijster.bergsma.media
SUMMARY:Eijg&Wijs: bingo net even anders
DESCRIPTION:
URL:https://wijster.bergsma.media/evenement/eijgwijs-bingo-net-even-anders/
END:VEVENT
END:VCALENDAR